BEGIN:VCALENDAR
VERSION:2.0
PRODID:-//jEvents 2.0 for Joomla//EN
CALSCALE:GREGORIAN
METHOD:PUBLISH
BEGIN:VTIMEZONE
TZID:Europe/Berlin
END:VTIMEZONE
BEGIN:VEVENT
UID:CSVConvertdeb54e03312e5602b6a79a53c14313d1
CATEGORIES:E-Jun
CREATED:20260326T212928
SUMMARY:FSV Eintracht 1910 Königs Wusterhausen (TWIN) - SpG Sperenberg/Mellensee I (TWIN)
LOCATION:Town &amp; Country Haus Sportpark
DESCRIPTION:
DTSTAMP:20260423T151818
DTSTART;TZID=Europe/Berlin:20260426T103000
DTEND;TZID=Europe/Berlin:20260426T113000
SEQUENCE:0
TRANSP:OPAQUE
END:VEVENT
END:VCALENDAR