BEGIN:VCALENDAR
VERSION:2.0
PRODID:-//jEvents 2.0 for Joomla//EN
CALSCALE:GREGORIAN
METHOD:PUBLISH
BEGIN:VTIMEZONE
TZID:Europe/Berlin
END:VTIMEZONE
BEGIN:VEVENT
UID:CSVConvert2640e6253a335e0f2c88a97ccec5ce90
CATEGORIES:Ü32
CREATED:20260326T212928
SUMMARY:SG Großziethen - SpG Wünsdorf/Sperenberg/Mellensee
LOCATION:Sportplatz Friedensweg
DESCRIPTION:
DTSTAMP:20260423T151823
DTSTART;TZID=Europe/Berlin:20260509T133000
DTEND;TZID=Europe/Berlin:20260509T143000
SEQUENCE:0
TRANSP:OPAQUE
END:VEVENT
END:VCALENDAR