BEGIN:VCALENDAR
VERSION:2.0
PRODID:-//jEvents 2.0 for Joomla//EN
CALSCALE:GREGORIAN
METHOD:PUBLISH
BEGIN:VTIMEZONE
TZID:Europe/Berlin
END:VTIMEZONE
BEGIN:VEVENT
UID:CSVConvertf9e319e6302ab2c09750fd769cb3358a
CATEGORIES:E-Jun
CREATED:20260326T212928
SUMMARY:SC Eintracht Miersdorf/Zeuthen IV (TWIN) - SpG Sperenberg/Mellensee I (TWIN)
LOCATION:Sportplatz Zeuthen (KR)
DESCRIPTION:
DTSTAMP:20260423T115654
DTSTART;TZID=Europe/Berlin:20260506T170000
DTEND;TZID=Europe/Berlin:20260506T180000
SEQUENCE:0
TRANSP:OPAQUE
END:VEVENT
END:VCALENDAR