BEGIN:VCALENDAR
VERSION:2.0
PRODID:-//jEvents 2.0 for Joomla//EN
CALSCALE:GREGORIAN
METHOD:PUBLISH
BEGIN:VTIMEZONE
TZID:Europe/Berlin
END:VTIMEZONE
BEGIN:VEVENT
UID:CSVConvert6128f0497cc3288e0b4903e830e635d2
CATEGORIES:B-Jun
CREATED:20260326T212928
SUMMARY:SpG Wünsdorf/Mellensee/Sperenberg - SpG Halbe/Schönwalde
LOCATION:Sportanlage Burgberg
DESCRIPTION:
DTSTAMP:20260423T164120
DTSTART;TZID=Europe/Berlin:20260411T130000
DTEND;TZID=Europe/Berlin:20260411T140000
SEQUENCE:0
TRANSP:OPAQUE
END:VEVENT
END:VCALENDAR