BEGIN:VCALENDAR
VERSION:2.0
PRODID:-//jEvents 2.0 for Joomla//EN
CALSCALE:GREGORIAN
METHOD:PUBLISH
BEGIN:VTIMEZONE
TZID:Europe/Berlin
END:VTIMEZONE
BEGIN:VEVENT
UID:CSVConvert77c2ea4c1a7c91ae91fefec09b1f71c1
CATEGORIES:Herren
CREATED:20260326T212928
SUMMARY:1.Kreisklasse - SpG Sperenberg/Mellensee/Wünsdorf
LOCATION:Sportplatz Kummersdorf-Gut
DESCRIPTION:
DTSTAMP:20260423T151738
DTSTART;TZID=Europe/Berlin:20260621T130000
DTEND;TZID=Europe/Berlin:20260621T140000
SEQUENCE:0
TRANSP:OPAQUE
END:VEVENT
END:VCALENDAR