BEGIN:VCALENDAR
VERSION:2.0
PRODID:-//jEvents 2.0 for Joomla//EN
CALSCALE:GREGORIAN
METHOD:PUBLISH
BEGIN:VTIMEZONE
TZID:Europe/Berlin
END:VTIMEZONE
BEGIN:VEVENT
UID:CSVConvertafd163493bec09a2ef2a02a78d718d1b
CATEGORIES:B-Jun
CREATED:20260326T212928
SUMMARY:SpG Wünsdorf/Mellensee/Sperenberg - SG Großziethen II
LOCATION:Sportanlage Burgberg
DESCRIPTION:
DTSTAMP:20260423T151819
DTSTART;TZID=Europe/Berlin:20260425T130000
DTEND;TZID=Europe/Berlin:20260425T140000
SEQUENCE:0
TRANSP:OPAQUE
END:VEVENT
END:VCALENDAR