BEGIN:VCALENDAR
VERSION:2.0
PRODID:-//jEvents 2.0 for Joomla//EN
CALSCALE:GREGORIAN
METHOD:PUBLISH
BEGIN:VTIMEZONE
TZID:Europe/Berlin
END:VTIMEZONE
BEGIN:VEVENT
UID:CSVConverta7e49594ccca04f727c4b2c1e80b9e23
CATEGORIES:D-Jun
CREATED:20260326T212928
SUMMARY:SpG Sperenberg/Mellensee - SG Südstern Senzig II
LOCATION:BBG-Arena Mellensee
DESCRIPTION:
DTSTAMP:20260423T164122
DTSTART;TZID=Europe/Berlin:20260516T100000
DTEND;TZID=Europe/Berlin:20260516T110000
SEQUENCE:0
TRANSP:OPAQUE
END:VEVENT
END:VCALENDAR