BEGIN:VCALENDAR
VERSION:2.0
PRODID:-//jEvents 2.0 for Joomla//EN
CALSCALE:GREGORIAN
METHOD:PUBLISH
BEGIN:VTIMEZONE
TZID:Europe/Berlin
END:VTIMEZONE
BEGIN:VEVENT
UID:CSVConvert78adabfc5e3e485f81fe87d7edcca2bd
CATEGORIES:E-Jun
CREATED:20260326T212928
SUMMARY:SpG Sperenberg/Mellensee I (TWIN) - SV Blau-Weiß Dahlewitz II (TWIN)
LOCATION:Sportplatz Schule
DESCRIPTION:
DTSTAMP:20260423T151820
DTSTART;TZID=Europe/Berlin:20260328T100000
DTEND;TZID=Europe/Berlin:20260328T110000
SEQUENCE:0
TRANSP:OPAQUE
END:VEVENT
END:VCALENDAR