BEGIN:VCALENDAR
VERSION:2.0
PRODID:-//jEvents 2.0 for Joomla//EN
CALSCALE:GREGORIAN
METHOD:PUBLISH
BEGIN:VTIMEZONE
TZID:Europe/Berlin
END:VTIMEZONE
BEGIN:VEVENT
UID:CSVConvertb9c46f6c9e6e312e9a8557064abf1683
CATEGORIES:E-Jun
CREATED:20260326T212928
SUMMARY:SpG Mellensee/Sperenberg - Borussia Mahlow
LOCATION:BBG-Arena Mellensee
DESCRIPTION:
DTSTAMP:20260423T163133
DTSTART;TZID=Europe/Berlin:20260516T090000
DTEND;TZID=Europe/Berlin:20260516T100000
SEQUENCE:0
TRANSP:OPAQUE
END:VEVENT
END:VCALENDAR