BEGIN:VCALENDAR
VERSION:2.0
PRODID:-//jEvents 2.0 for Joomla//EN
CALSCALE:GREGORIAN
METHOD:PUBLISH
BEGIN:VTIMEZONE
TZID:Europe/Berlin
END:VTIMEZONE
BEGIN:VEVENT
UID:CSVConvert734672958e14cca40a0a0e5a583aa4ee
CATEGORIES:Ü32
CREATED:20260326T212928
SUMMARY:Herren Ü32 Kreisliga - SpG Wünsdorf/Sperenberg/Mellensee
LOCATION:Sportplatz Kummersdorf-Gut
DESCRIPTION:
DTSTAMP:20260423T151741
DTSTART;TZID=Europe/Berlin:20260529T193000
DTEND;TZID=Europe/Berlin:20260529T203000
SEQUENCE:0
TRANSP:OPAQUE
END:VEVENT
END:VCALENDAR