BEGIN:VCALENDAR
VERSION:2.0
PRODID:-//jEvents 2.0 for Joomla//EN
CALSCALE:GREGORIAN
METHOD:PUBLISH
BEGIN:VTIMEZONE
TZID:Europe/Berlin
END:VTIMEZONE
BEGIN:VEVENT
UID:CSVConvert92ec5a63404e26b7a376b63e6f84800c
CATEGORIES:F-Jun
CREATED:20260326T212928
SUMMARY:SG Schulzendorf I - SpG Mellensee/Sperenberg
LOCATION:se.services Arena
DESCRIPTION:
DTSTAMP:20260423T163133
DTSTART;TZID=Europe/Berlin:20260419T100000
DTEND;TZID=Europe/Berlin:20260419T110000
SEQUENCE:0
TRANSP:OPAQUE
END:VEVENT
END:VCALENDAR