BEGIN:VCALENDAR
VERSION:2.0
PRODID:-//jEvents 2.0 for Joomla//EN
CALSCALE:GREGORIAN
METHOD:PUBLISH
BEGIN:VTIMEZONE
TZID:Europe/Berlin
END:VTIMEZONE
BEGIN:VEVENT
UID:CSVConverta639bf63cfd33983401eb4ddeeafea91
CATEGORIES:Ü32
CREATED:20260326T212928
SUMMARY:SpG Deutsch Wusterhausen/Heidesee - SpG Wünsdorf/Sperenberg/Mellensee
LOCATION:Sportplatz Deutsch Wusterh.
DESCRIPTION:
DTSTAMP:20260423T151735
DTSTART;TZID=Europe/Berlin:20260516T150000
DTEND;TZID=Europe/Berlin:20260516T160000
SEQUENCE:0
TRANSP:OPAQUE
END:VEVENT
END:VCALENDAR