BEGIN:VCALENDAR
VERSION:2.0
PRODID:-//jEvents 2.0 for Joomla//EN
CALSCALE:GREGORIAN
METHOD:PUBLISH
BEGIN:VTIMEZONE
TZID:Europe/Berlin
END:VTIMEZONE
BEGIN:VEVENT
UID:CSVConvertb446245c6993ce0c69ce6737379c5c27
CATEGORIES:D-Jun
CREATED:20260326T212928
SUMMARY:FSV Admira I - SpG Sperenberg/Mellensee
LOCATION:Sportplatz Mittenwalde
DESCRIPTION:
DTSTAMP:20260423T180721
DTSTART;TZID=Europe/Berlin:20260419T100000
DTEND;TZID=Europe/Berlin:20260419T110000
SEQUENCE:0
TRANSP:OPAQUE
END:VEVENT
END:VCALENDAR