BEGIN:VCALENDAR
VERSION:2.0
PRODID:-//jEvents 2.0 for Joomla//EN
CALSCALE:GREGORIAN
METHOD:PUBLISH
BEGIN:VTIMEZONE
TZID:Europe/Berlin
END:VTIMEZONE
BEGIN:VEVENT
UID:CSVConvert429f2cccb94dba0d06c5bd28033ab83b
CATEGORIES:Ü32
CREATED:20260326T212928
SUMMARY:SG Schulzendorf - SpG Wünsdorf/Sperenberg/Mellensee
LOCATION:se.services Arena
DESCRIPTION:
DTSTAMP:20260423T180721
DTSTART;TZID=Europe/Berlin:20260520T190000
DTEND;TZID=Europe/Berlin:20260520T200000
SEQUENCE:0
TRANSP:OPAQUE
END:VEVENT
END:VCALENDAR