BEGIN:VCALENDAR
VERSION:2.0
PRODID:-//jEvents 2.0 for Joomla//EN
CALSCALE:GREGORIAN
METHOD:PUBLISH
BEGIN:VTIMEZONE
TZID:Europe/Berlin
END:VTIMEZONE
BEGIN:VEVENT
UID:CSVConvert3f22013b7c794e97ee7665bde88d2ec8
CATEGORIES:E-Jun
CREATED:20260326T212928
SUMMARY:SpG Sperenberg/Mellensee I (TWIN) - SG Großziethen II (TWIN)
LOCATION:Sportplatz Schule
DESCRIPTION:
DTSTAMP:20260423T151821
DTSTART;TZID=Europe/Berlin:20260516T110000
DTEND;TZID=Europe/Berlin:20260516T120000
SEQUENCE:0
TRANSP:OPAQUE
END:VEVENT
END:VCALENDAR