BEGIN:VCALENDAR
VERSION:2.0
PRODID:-//jEvents 2.0 for Joomla//EN
CALSCALE:GREGORIAN
METHOD:PUBLISH
BEGIN:VTIMEZONE
TZID:Europe/Berlin
END:VTIMEZONE
BEGIN:VEVENT
UID:CSVConvert7bb91d30e654205c3cedb28586de2fd2
CATEGORIES:E-Jun
CREATED:20260326T212928
SUMMARY:SG Großziethen II (TWIN) - SpG Sperenberg/Mellensee I (TWIN)
LOCATION:Sportplatz Friedensweg
DESCRIPTION:
DTSTAMP:20260423T164120
DTSTART;TZID=Europe/Berlin:20260620T113000
DTEND;TZID=Europe/Berlin:20260620T123000
SEQUENCE:0
TRANSP:OPAQUE
END:VEVENT
END:VCALENDAR