BEGIN:VCALENDAR
VERSION:2.0
PRODID:-//jEvents 2.0 for Joomla//EN
CALSCALE:GREGORIAN
METHOD:PUBLISH
BEGIN:VTIMEZONE
TZID:Europe/Berlin
END:VTIMEZONE
BEGIN:VEVENT
UID:CSVConvertff476ba9edbb6a994b265deb379b4c11
CATEGORIES:Ü32
CREATED:20260326T212928
SUMMARY:MSV Zossen - SpG Wünsdorf/Sperenberg/Mellensee
LOCATION:Sportforum Dabendorf
DESCRIPTION:
DTSTAMP:20260423T180722
DTSTART;TZID=Europe/Berlin:20260606T150000
DTEND;TZID=Europe/Berlin:20260606T160000
SEQUENCE:0
TRANSP:OPAQUE
END:VEVENT
END:VCALENDAR