BEGIN:VCALENDAR
VERSION:2.0
PRODID:-//jEvents 2.0 for Joomla//EN
CALSCALE:GREGORIAN
METHOD:PUBLISH
BEGIN:VTIMEZONE
TZID:Europe/Berlin
END:VTIMEZONE
BEGIN:VEVENT
UID:CSVConvert2a00fe08a60a0c9024703c353729f216
CATEGORIES:E-Jun
CREATED:20260326T212928
SUMMARY:SG Wacker Motzen - SpG Mellensee/Sperenberg
LOCATION:Sportplatz Motzen
DESCRIPTION:
DTSTAMP:20260423T163214
DTSTART;TZID=Europe/Berlin:20260329T103000
DTEND;TZID=Europe/Berlin:20260329T113000
SEQUENCE:0
TRANSP:OPAQUE
END:VEVENT
END:VCALENDAR