BEGIN:VCALENDAR
VERSION:2.0
PRODID:-//jEvents 2.0 for Joomla//EN
CALSCALE:GREGORIAN
METHOD:PUBLISH
BEGIN:VTIMEZONE
TZID:Europe/Berlin
END:VTIMEZONE
BEGIN:VEVENT
UID:CSVConvertaa20b0858c6b525758759fa318d7a070
CATEGORIES:E-Jun
CREATED:20260326T212928
SUMMARY:SV Schönefeld 1995 - SpG Mellensee/Sperenberg
LOCATION:Sportplatz Schönefeld
DESCRIPTION:
DTSTAMP:20260423T164115
DTSTART;TZID=Europe/Berlin:20260530T100000
DTEND;TZID=Europe/Berlin:20260530T110000
SEQUENCE:0
TRANSP:OPAQUE
END:VEVENT
END:VCALENDAR