BEGIN:VCALENDAR
VERSION:2.0
PRODID:-//jEvents 2.0 for Joomla//EN
CALSCALE:GREGORIAN
METHOD:PUBLISH
BEGIN:VTIMEZONE
TZID:Europe/Berlin
END:VTIMEZONE
BEGIN:VEVENT
UID:CSVConvert8f38a6b8357bbace8f8f437d38a4c4a3
CATEGORIES:E-Jun
CREATED:20260326T212928
SUMMARY:SpG Sperenberg/Mellensee I (TWIN) - SC Eintracht Miersdorf/Zeuthen IV (TWIN)
LOCATION:Sportplatz Schule
DESCRIPTION:
DTSTAMP:20260423T151739
DTSTART;TZID=Europe/Berlin:20260530T110000
DTEND;TZID=Europe/Berlin:20260530T120000
SEQUENCE:0
TRANSP:OPAQUE
END:VEVENT
END:VCALENDAR