BEGIN:VCALENDAR
VERSION:2.0
PRODID:-//jEvents 2.0 for Joomla//EN
CALSCALE:GREGORIAN
METHOD:PUBLISH
BEGIN:VTIMEZONE
TZID:Europe/Berlin
END:VTIMEZONE
BEGIN:VEVENT
UID:CSVConvertec405b951c5a3dfdcbf993735191af22
CATEGORIES:E-Jun
CREATED:20260326T212928
SUMMARY:SpG Sperenberg/Mellensee I (TWIN) - FSV Eintracht 1910 Königs Wusterhausen (TWIN)
LOCATION:Sportplatz Schule
DESCRIPTION:
DTSTAMP:20260423T151741
DTSTART;TZID=Europe/Berlin:20260613T110000
DTEND;TZID=Europe/Berlin:20260613T120000
SEQUENCE:0
TRANSP:OPAQUE
END:VEVENT
END:VCALENDAR