BEGIN:VCALENDAR
VERSION:2.0
PRODID:-//jEvents 2.0 for Joomla//EN
CALSCALE:GREGORIAN
METHOD:PUBLISH
BEGIN:VTIMEZONE
TZID:Europe/Berlin
END:VTIMEZONE
BEGIN:VEVENT
UID:CSVConvertfe44dbaf7f6f30254af49251cf45e79c
CATEGORIES:F-Jun
CREATED:20260326T212928
SUMMARY:SG Phönix Wildau II - SpG Mellensee/Sperenberg
LOCATION:Otto-Franke-Stadion
DESCRIPTION:
DTSTAMP:20260423T163134
DTSTART;TZID=Europe/Berlin:20260530T093000
DTEND;TZID=Europe/Berlin:20260530T103000
SEQUENCE:0
TRANSP:OPAQUE
END:VEVENT
END:VCALENDAR