BEGIN:VCALENDAR
VERSION:2.0
PRODID:-//jEvents 2.0 for Joomla//EN
CALSCALE:GREGORIAN
METHOD:PUBLISH
BEGIN:VTIMEZONE
TZID:Europe/Berlin
END:VTIMEZONE
BEGIN:VEVENT
UID:CSVConvertfea79df57a5ae2051009f22eeb68e7c8
CATEGORIES:B-Jun
CREATED:20260326T212928
SUMMARY:SV Schönefeld 1995 - SpG Wünsdorf/Mellensee/Sperenberg
LOCATION:Sportplatz Schönefeld
DESCRIPTION:
DTSTAMP:20260423T164116
DTSTART;TZID=Europe/Berlin:20260419T100000
DTEND;TZID=Europe/Berlin:20260419T110000
SEQUENCE:0
TRANSP:OPAQUE
END:VEVENT
END:VCALENDAR