BEGIN:VCALENDAR
VERSION:2.0
PRODID:-//jEvents 2.0 for Joomla//EN
CALSCALE:GREGORIAN
METHOD:PUBLISH
BEGIN:VTIMEZONE
TZID:Europe/Berlin
END:VTIMEZONE
BEGIN:VEVENT
UID:CSVConvert57bfc1ab1ec3664a39441dc9b5c45ac1
CATEGORIES:E-Jun
CREATED:20260326T212928
SUMMARY:SV Blau-Weiß Dahlewitz II (TWIN) - SpG Sperenberg/Mellensee I (TWIN)
LOCATION:Sportanlage des SV Blau-Weiß
DESCRIPTION:
DTSTAMP:20260423T151735
DTSTART;TZID=Europe/Berlin:20260510T100000
DTEND;TZID=Europe/Berlin:20260510T110000
SEQUENCE:0
TRANSP:OPAQUE
END:VEVENT
END:VCALENDAR