BEGIN:VCALENDAR
VERSION:2.0
PRODID:-//jEvents 2.0 for Joomla//EN
CALSCALE:GREGORIAN
METHOD:PUBLISH
BEGIN:VTIMEZONE
TZID:Europe/Berlin
END:VTIMEZONE
BEGIN:VEVENT
UID:CSVConvert5feb4452357f93482f93ac14ad107830
CATEGORIES:Ü32
CREATED:20260326T212928
SUMMARY:SG Aufbau Halbe - SpG Wünsdorf/Sperenberg/Mellensee
LOCATION:Gemeinde-Sportplätze Strandweg
DESCRIPTION:
DTSTAMP:20260423T151820
DTSTART;TZID=Europe/Berlin:20260620T150000
DTEND;TZID=Europe/Berlin:20260620T160000
SEQUENCE:0
TRANSP:OPAQUE
END:VEVENT
END:VCALENDAR