BEGIN:VCALENDAR
VERSION:2.0
PRODID:-//jEvents 2.0 for Joomla//EN
CALSCALE:GREGORIAN
METHOD:PUBLISH
BEGIN:VTIMEZONE
TZID:Europe/Berlin
END:VTIMEZONE
BEGIN:VEVENT
UID:CSVConvert79f21233658e93f1fffeeab38fd5d5eb
CATEGORIES:Herren
CREATED:20260326T212928
SUMMARY:SV Fichte Baruth - SpG Sperenberg/Mellensee/Wünsdorf
LOCATION:Fichte Sportplatz
DESCRIPTION:
DTSTAMP:20260423T151822
DTSTART;TZID=Europe/Berlin:20260531T150000
DTEND;TZID=Europe/Berlin:20260531T160000
SEQUENCE:0
TRANSP:OPAQUE
END:VEVENT
END:VCALENDAR