BEGIN:VCALENDAR
VERSION:2.0
PRODID:-//jEvents 2.0 for Joomla//EN
CALSCALE:GREGORIAN
METHOD:PUBLISH
BEGIN:VTIMEZONE
TZID:Europe/Berlin
END:VTIMEZONE
BEGIN:VEVENT
UID:CSVConvert1fcd3cfd995b289662aae64ca9b3f2cc
CATEGORIES:Ü32
CREATED:20260326T212928
SUMMARY:Herren Ü32 Kreisliga - SpG Wünsdorf/Sperenberg/Mellensee
LOCATION:Sportplatz Kummersdorf-Gut
DESCRIPTION:
DTSTAMP:20260423T151744
DTSTART;TZID=Europe/Berlin:20260613T150000
DTEND;TZID=Europe/Berlin:20260613T160000
SEQUENCE:0
TRANSP:OPAQUE
END:VEVENT
END:VCALENDAR