BEGIN:VCALENDAR
VERSION:2.0
PRODID:-//jEvents 2.0 for Joomla//EN
CALSCALE:GREGORIAN
METHOD:PUBLISH
BEGIN:VTIMEZONE
TZID:Europe/Berlin
END:VTIMEZONE
BEGIN:VEVENT
UID:CSVConvertb5c5859c4fdc11cf9b45659bda9a75ff
CATEGORIES:F-Jun
CREATED:20260326T212928
SUMMARY:SpG Mellensee/Sperenberg - SG Südstern Senzig II
LOCATION:BBG-Arena Mellensee
DESCRIPTION:
DTSTAMP:20260423T164114
DTSTART;TZID=Europe/Berlin:20260517T100000
DTEND;TZID=Europe/Berlin:20260517T110000
SEQUENCE:0
TRANSP:OPAQUE
END:VEVENT
END:VCALENDAR