BEGIN:VCALENDAR
VERSION:2.0
PRODID:-//jEvents 2.0 for Joomla//EN
CALSCALE:GREGORIAN
METHOD:PUBLISH
BEGIN:VTIMEZONE
TZID:Europe/Berlin
END:VTIMEZONE
BEGIN:VEVENT
UID:CSVConverte48867fda55172b669329780c9d332ae
CATEGORIES:F-Jun
CREATED:20260326T212928
SUMMARY:SV Teupitz/Groß Köris I - SpG Mellensee/Sperenberg
LOCATION:Sportplatz Groß Köris
DESCRIPTION:
DTSTAMP:20260423T164122
DTSTART;TZID=Europe/Berlin:20260510T100000
DTEND;TZID=Europe/Berlin:20260510T110000
SEQUENCE:0
TRANSP:OPAQUE
END:VEVENT
END:VCALENDAR