BEGIN:VCALENDAR
VERSION:2.0
PRODID:-//jEvents 2.0 for Joomla//EN
CALSCALE:GREGORIAN
METHOD:PUBLISH
BEGIN:VTIMEZONE
TZID:Europe/Berlin
END:VTIMEZONE
BEGIN:VEVENT
UID:de82f25765cd6fc767a89ed254faf327
CATEGORIES:Ü50
CREATED:20260412T174043
SUMMARY:RSV Mellensee - BSC Preußen
LOCATION:BBG-Arena Mellensee
DESCRIPTION:
DTSTAMP:20260423T115652
DTSTART;TZID=Europe/Berlin:20260508T190000
DTEND;TZID=Europe/Berlin:20260508T200000
SEQUENCE:0
TRANSP:OPAQUE
END:VEVENT
END:VCALENDAR