BEGIN:VCALENDAR
VERSION:2.0
PRODID:-//jEvents 2.0 for Joomla//EN
CALSCALE:GREGORIAN
METHOD:PUBLISH
BEGIN:VTIMEZONE
TZID:Europe/Berlin
END:VTIMEZONE
BEGIN:VEVENT
UID:249ddb5631e8af722343a45afe30d4b2
CATEGORIES:Ü50
CREATED:20260412T174127
SUMMARY:RSV Mellensee - RSV WAltersdorf 09
LOCATION:BBG-Arena Mellensee
DESCRIPTION:
DTSTAMP:20260423T163134
DTSTART;TZID=Europe/Berlin:20260612T190000
DTEND;TZID=Europe/Berlin:20260612T200000
SEQUENCE:0
TRANSP:OPAQUE
END:VEVENT
END:VCALENDAR