BEGIN:VCALENDAR
VERSION:2.0
PRODID:-//jEvents 2.0 for Joomla//EN
CALSCALE:GREGORIAN
METHOD:PUBLISH
BEGIN:VTIMEZONE
TZID:Europe/Berlin
END:VTIMEZONE
BEGIN:VEVENT
UID:02b97fbb4414a898eeb41c2c4753218b
CATEGORIES:Ü50
CREATED:20260412T174309
SUMMARY:VfB Trebbin - RSV Mellensee
LOCATION:BBG-Arena Mellensee
DESCRIPTION:
DTSTAMP:20260423T151823
DTSTART;TZID=Europe/Berlin:20260529T190000
DTEND;TZID=Europe/Berlin:20260529T200000
SEQUENCE:0
TRANSP:OPAQUE
END:VEVENT
END:VCALENDAR