BEGIN:VCALENDAR
VERSION:2.0
PRODID:-//jEvents 2.0 for Joomla//EN
CALSCALE:GREGORIAN
METHOD:PUBLISH
BEGIN:VTIMEZONE
TZID:Europe/Berlin
END:VTIMEZONE
BEGIN:VEVENT
UID:cedd7df55c84bf439f362e2c4cc9faa3
CATEGORIES:Ü50
CREATED:20260412T174406
SUMMARY:SV Grün-Weiß Großbeeren - RSV Mellensee
LOCATION:BBG-Arena Mellensee
DESCRIPTION:
DTSTAMP:20260423T164117
DTSTART;TZID=Europe/Berlin:20260619T190000
DTEND;TZID=Europe/Berlin:20260619T200000
SEQUENCE:0
TRANSP:OPAQUE
END:VEVENT
END:VCALENDAR